BEGIN:VCALENDAR
VERSION:2.0
PRODID:-//Association of Floodplain Managers - ECPv6.15.20//NONSGML v1.0//EN
CALSCALE:GREGORIAN
METHOD:PUBLISH
X-ORIGINAL-URL:https://mtfloods.org
X-WR-CALDESC:Events for Association of Floodplain Managers
REFRESH-INTERVAL;VALUE=DURATION:PT1H
X-Robots-Tag:noindex
X-PUBLISHED-TTL:PT1H
BEGIN:VTIMEZONE
TZID:America/Denver
BEGIN:DAYLIGHT
TZOFFSETFROM:-0700
TZOFFSETTO:-0600
TZNAME:MDT
DTSTART:20240310T090000
END:DAYLIGHT
BEGIN:STANDARD
TZOFFSETFROM:-0600
TZOFFSETTO:-0700
TZNAME:MST
DTSTART:20241103T080000
END:STANDARD
BEGIN:DAYLIGHT
TZOFFSETFROM:-0700
TZOFFSETTO:-0600
TZNAME:MDT
DTSTART:20250309T090000
END:DAYLIGHT
BEGIN:STANDARD
TZOFFSETFROM:-0600
TZOFFSETTO:-0700
TZNAME:MST
DTSTART:20251102T080000
END:STANDARD
BEGIN:DAYLIGHT
TZOFFSETFROM:-0700
TZOFFSETTO:-0600
TZNAME:MDT
DTSTART:20260308T090000
END:DAYLIGHT
BEGIN:STANDARD
TZOFFSETFROM:-0600
TZOFFSETTO:-0700
TZNAME:MST
DTSTART:20261101T080000
END:STANDARD
END:VTIMEZONE
BEGIN:VEVENT
DTSTART;TZID=America/Denver:20250225T120000
DTEND;TZID=America/Denver:20250228T120000
DTSTAMP:20260419T142026
CREATED:20241212T215325Z
LAST-MODIFIED:20250303T211219Z
UID:484-1740484800-1740744000@mtfloods.org
SUMMARY:Association of Montana Floodplain Managers (AMFM) 25th Annual Conference
DESCRIPTION:You are cordially invited to participate in the 25th Annual Association of Montana Floodplain Managers (AMFM) Conference\, the premier floodplain management convention in Montana!  The conference will include presentations\, technical workshops\, training sessions and exhibits in a variety of areas. \nCONFERENCE REGISTRATION INFORMATION \nEach individual from your agency or organization planning to attend the workshop must complete a separate registration.  Registrations can be completed online at the bottom of this page.  Full registration fees include all conference materials\, break refreshments and evening social events. Conference registration for AMFM members is $250\, which includes annual membership dues\, and conference registration for non-members is $275. \nAs a token of our appreciation towards our membership\, there will be a general membership luncheon provided on Thursday and that cost is included with your membership. Lunch for non-members will be on-your own that day. \nRegistration fees may be paid through our website in advance\, paid at the workshop registration table\, or mailed to AMFM at PO BOX 1305\, Helena\, MT 59624.  Checks should be made payable to AMFM.  Sorry\, there will be no refunds for cancelled registrations.  The registration fee will be waived for one presenter of each selected abstract.   \nThe DRAFT Agenda is available here. It is subject to change as conference details are finalized. \nIf you receive a “Cancellation Confirmed” email while trying to pay for registration or a sponsorship\, please forward the email to sean.ocallaghan@gallatin.mt.gov.  This usually happens when an internet browser window is closed or the transaction is otherwise cancelled while trying to pay through PayPal.   \nFloodplain Administrator Scholarship \nThe Association of Montana Floodplain Managers (AMFM) is offering scholarship for up to three Floodplain Administrators/Managers to attend the annual conference. The scholarship will include conference registration fees and hotel accommodation for up to three nights during the conference at the predefined hotel and conference rate. Any person serving the role as Floodplain Administrator and/or having floodplain management responsibilities on behalf of their community is eligible to apply. Only people employed directly by a community participating in the National Flood Insurance Program are eligible to apply. Preference will be given to applicants who submit an abstract to present at the conference and/or are within their first three years of having floodplain management responsibilities.  Fillable PDF applications and more information on how to apply can be obtained here. \nAMFM Membership Renewal \nAMFM annual dues are included in conference registration\, but for AMFM members not attending the conference\, annual membership dues are $25 and can be paid here. \nHOTEL/RESERVATION INFORMATION \nHoliday Inn Missoula Downtown | Missoula\, MT | February 26th – 28th\, 2025 \nCONFERENCE LOCATION & FACILITIES \nThe conference will be held at the Holiday Inn Missoula Downtown\, located at 200 South Pattee Street\, Missoula\, MT 59802. A block of rooms has been reserved from Tuesday\, February 25th through Friday\, February 28th. Rooms are available for $130 per night\, plus taxes and fees. \nSpecial AMFM Rates for the Room Block will be cut off on February 4th\, 2025. \nReservations are available by calling the hotel reservation line at (800)465-4329 or (406)721-8550 and identifying yourself as part of the Association of Montana Floodplain Managers (AMFM) conference or by using the following link – BOOK HERE  \nEXHIBITOR & SPONSOR INFORMATION \nSponsoring is a great way to get your company recognized and market your services/products to floodplain professionals. \nExhibitors/sponsors will be acknowledged in the conference materials\, on the AMFM website and with a formal acknowledgment throughout the conference.  A 6-ft table will be available for your agency/organization in the refreshment/social night areas during the conference.  Setup will open Tuesday February 25th at 4:00 PM; take down to be completed by 1:00 PM on Friday February 28th. \nThere are four sponsorship levels available: \n\nBASE FLOOD ELEVATION (BFE) $350.00\nFREEBOARD $650.00\nHIGH AND DRY $1\,000\nNO ADVERSE IMPACT $2\,000\n\nRegister & pay to be an exhibitor/sponsor on the Conference Registration link below. \n 
URL:https://mtfloods.org/event/association-of-montana-floodplain-managers-amfm-25th-annual-conference/
LOCATION:Holiday Inn Great Falls Convention Center\, 1100 5th Street South\, Great Falls\, MT\, 59405
ORGANIZER;CN="Association of Montana Floodplain Managers":MAILTO:sean.ocallaghan@gallatin.mt.gov
END:VEVENT
END:VCALENDAR